BEGIN:VCALENDAR
VERSION:2.0
PRODID:-//hacksw/handcal//NONSGML v1.0//EN
CALSCALE:GREGORIAN
BEGIN:VEVENT
LOCATION:EPFL Bâtiment SG\, Place Ada Lovelace\, 1015 Lausanne
DESCRIPTION:Handcrafting Digital Transition – Conférence Superonda n°4
SUMMARY:Vernissage. Publication « On Architecture and Greenwashing »
URL;VALUE=URI:
DTSTART;TZID=EUROPE/ZURICH:20240423T183000
DTSTAMP:20260423T012540Z
CREATED:20260423T012540Z
UID:69e97514aa412
END:VEVENT
END:VCALENDAR