BEGIN:VCALENDAR
VERSION:2.0
PRODID:-//hacksw/handcal//NONSGML v1.0//EN
CALSCALE:GREGORIAN
BEGIN:VEVENT
LOCATION:Pyramides d'Euseigne\, 1982 Hérémence
DESCRIPTION:Quels futurs possibles pour le paysage alpin ?
SUMMARY:Exposition. Alpes projetées\, Alpes rêvées
URL;VALUE=URI:
DTSTART;VALUE=DATE:20240614
DTEND;VALUE=DATE:20240915
DTSTAMP:20260423T100619Z
CREATED:20260423T100619Z
UID:69e9ef1b64a2d
END:VEVENT
END:VCALENDAR