BEGIN:VCALENDAR
VERSION:2.0
PRODID:-//hacksw/handcal//NONSGML v1.0//EN
CALSCALE:GREGORIAN
BEGIN:VEVENT
LOCATION:
DESCRIPTION:
SUMMARY:LAC 23.26. le Valais\, le Rhône
URL;VALUE=URI:
DTSTART;VALUE=DATE:20240926
DTEND;VALUE=DATE:20240929
DTSTAMP:20260422T093232Z
CREATED:20260422T093232Z
UID:69e895b020266
END:VEVENT
END:VCALENDAR