BEGIN:VCALENDAR
VERSION:2.0
PRODID:-//hacksw/handcal//NONSGML v1.0//EN
CALSCALE:GREGORIAN
BEGIN:VEVENT
LOCATION:Hôtel Royal Savoy\, Av. d’Ouchy 40 \, 1006 Lausanne
DESCRIPTION:
SUMMARY:Evènement Building Tomorrow. Synergie entre l’expertise humaine et la technologie : le futur de la construction
URL;VALUE=URI:
DTSTART;TZID=EUROPE/ZURICH:20240918T083000
DTEND;TZID=EUROPE/ZURICH:20240918T160000
DTSTAMP:20260424T093600Z
CREATED:20260424T093600Z
UID:69eb3980e7336
END:VEVENT
END:VCALENDAR