BEGIN:VCALENDAR
VERSION:2.0
PRODID:-//hacksw/handcal//NONSGML v1.0//EN
CALSCALE:GREGORIAN
BEGIN:VEVENT
LOCATION:
DESCRIPTION:
SUMMARY:Atelier médiéval. Bâtisseuses\, bâtisseurs
URL;VALUE=URI:
DTSTART;TZID=EUROPE/ZURICH:20240731T133000
DTEND;TZID=EUROPE/ZURICH:20240731T163000
DTSTAMP:20260420T055110Z
CREATED:20260420T055110Z
UID:69e5bece989a9
END:VEVENT
END:VCALENDAR