BEGIN:VCALENDAR
VERSION:2.0
PRODID:-//hacksw/handcal//NONSGML v1.0//EN
CALSCALE:GREGORIAN
BEGIN:VEVENT
LOCATION:
DESCRIPTION:
SUMMARY:Visite. En chantier Centre de congrès de Montreux
URL;VALUE=URI:
DTSTART;TZID=EUROPE/ZURICH:20241003T120000
DTEND;TZID=EUROPE/ZURICH:20241003T130000
DTSTAMP:20260423T024430Z
CREATED:20260423T024430Z
UID:69e9878e137c1
END:VEVENT
END:VCALENDAR