BEGIN:VCALENDAR
VERSION:2.0
PRODID:-//hacksw/handcal//NONSGML v1.0//EN
CALSCALE:GREGORIAN
BEGIN:VEVENT
LOCATION:Foyer bâtiment SG\, Place Ada Lovelace\, 1015 Lausanne
DESCRIPTION:Cet événement fait parti de la série "Le logement abordable: Six projets exemplaires"
SUMMARY:Conférence. Peris+Toral Arquitectes. Modulus Matrix
URL;VALUE=URI:
DTSTART;TZID=EUROPE/ZURICH:20241029T183000
DTSTAMP:20260426T011911Z
CREATED:20260426T011911Z
UID:69ed680fae56c
END:VEVENT
END:VCALENDAR