BEGIN:VCALENDAR
VERSION:2.0
PRODID:-//hacksw/handcal//NONSGML v1.0//EN
CALSCALE:GREGORIAN
BEGIN:VEVENT
LOCATION:
DESCRIPTION:
SUMMARY:Événement. Futur en tous genres
URL;VALUE=URI:
DTSTART;TZID=EUROPE/ZURICH:20241114T000000
DTSTAMP:20260426T013847Z
CREATED:20260426T013847Z
UID:69ed6ca72aed4
END:VEVENT
END:VCALENDAR