BEGIN:VCALENDAR
VERSION:2.0
PRODID:-//hacksw/handcal//NONSGML v1.0//EN
CALSCALE:GREGORIAN
BEGIN:VEVENT
LOCATION:EPFL Bâtiment SG\, Place Ada Lovelace\, 1015 Lausanne
DESCRIPTION:Le dessin exploratoire en architecture
SUMMARY:Exposition. Begin Again. Fail Better
URL;VALUE=URI:
DTSTART;VALUE=DATE:20241104
DTEND;VALUE=DATE:20241202
DTSTAMP:20260423T101040Z
CREATED:20260423T101040Z
UID:69e9f0200e1b8
END:VEVENT
END:VCALENDAR