BEGIN:VCALENDAR
VERSION:2.0
PRODID:-//hacksw/handcal//NONSGML v1.0//EN
CALSCALE:GREGORIAN
BEGIN:VEVENT
LOCATION:Route de Ferney 106\, 1202 Genève 
DESCRIPTION:
SUMMARY:Visite. La pastorale
URL;VALUE=URI:
DTSTART;TZID=EUROPE/ZURICH:20241102T100000
DTSTAMP:20260423T223541Z
CREATED:20260423T223541Z
UID:69ea9ebd1b6f5
END:VEVENT
END:VCALENDAR