BEGIN:VCALENDAR
VERSION:2.0
PRODID:-//hacksw/handcal//NONSGML v1.0//EN
CALSCALE:GREGORIAN
BEGIN:VEVENT
LOCATION:Fédération des Entreprises Romandes (FER) \, Rue de Saint-Jean 98\, Genève
DESCRIPTION:Changement de pratiques et applications
SUMMARY:Table ronde. Eau en ville
URL;VALUE=URI:
DTSTART;TZID=EUROPE/ZURICH:20241114T120000
DTEND;TZID=EUROPE/ZURICH:20241114T140000
DTSTAMP:20260420T022039Z
CREATED:20260420T022039Z
UID:69e58d7765862
END:VEVENT
END:VCALENDAR