BEGIN:VCALENDAR
VERSION:2.0
PRODID:-//hacksw/handcal//NONSGML v1.0//EN
CALSCALE:GREGORIAN
BEGIN:VEVENT
LOCATION:
DESCRIPTION:
SUMMARY:Exposition. Cartographies de pixels et d’argile
URL;VALUE=URI:
DTSTART;VALUE=DATE:20241113
DTEND;VALUE=DATE:20241116
DTSTAMP:20260421T082448Z
CREATED:20260421T082448Z
UID:69e734509c28a
END:VEVENT
END:VCALENDAR