BEGIN:VCALENDAR
VERSION:2.0
PRODID:-//hacksw/handcal//NONSGML v1.0//EN
CALSCALE:GREGORIAN
BEGIN:VEVENT
LOCATION:Chemin de Roilbot 19 \, 1292 Pregny-Chambésy\, 
DESCRIPTION:
SUMMARY:Inauguration. Villa individuelle chemin Roilbot – Lacroix Chessex
URL;VALUE=URI:
DTSTART;TZID=EUROPE/ZURICH:20241205T173000
DTEND;TZID=EUROPE/ZURICH:20241205T203000
DTSTAMP:20260421T072025Z
CREATED:20260421T072025Z
UID:69e725396a068
END:VEVENT
END:VCALENDAR