BEGIN:VCALENDAR
VERSION:2.0
PRODID:-//hacksw/handcal//NONSGML v1.0//EN
CALSCALE:GREGORIAN
BEGIN:VEVENT
LOCATION:Théâtre Vidy-Lausanne\, Av. Emile-Henri-Jaques-Dalcroze 5
DESCRIPTION:
SUMMARY:Visite. Théâtre Vidy-Lausanne
URL;VALUE=URI:
DTSTART;TZID=EUROPE/ZURICH:20241207T173000
DTSTAMP:20260423T140553Z
CREATED:20260423T140553Z
UID:69ea2741bf04d
END:VEVENT
END:VCALENDAR