BEGIN:VCALENDAR
VERSION:2.0
PRODID:-//hacksw/handcal//NONSGML v1.0//EN
CALSCALE:GREGORIAN
BEGIN:VEVENT
LOCATION:
DESCRIPTION:
SUMMARY:Exposition. HEIA-FR Architecture. Ateliers Master
URL;VALUE=URI:
DTSTART;VALUE=DATE:20241217
DTEND;VALUE=DATE:20241219
DTSTAMP:20260422T110308Z
CREATED:20260422T110308Z
UID:69e8aaec33e25
END:VEVENT
END:VCALENDAR