BEGIN:VCALENDAR
VERSION:2.0
PRODID:-//hacksw/handcal//NONSGML v1.0//EN
CALSCALE:GREGORIAN
BEGIN:VEVENT
LOCATION:Avenue Villamont 4\, 1005 Lausanne
DESCRIPTION:
SUMMARY:Débat urbanité. Débat Urbanités – La biodiversité\, l’accueillir ou la protéger?
URL;VALUE=URI:
DTSTART;TZID=EUROPE/ZURICH:20250210T183000
DTSTAMP:20260421T143833Z
CREATED:20260421T143833Z
UID:69e78be924909
END:VEVENT
END:VCALENDAR