BEGIN:VCALENDAR
VERSION:2.0
PRODID:-//hacksw/handcal//NONSGML v1.0//EN
CALSCALE:GREGORIAN
BEGIN:VEVENT
LOCATION:
DESCRIPTION:
SUMMARY:En visite SIA VD. Nord vaudois
URL;VALUE=URI:
DTSTART;TZID=EUROPE/ZURICH:20250517T100000
DTSTAMP:20260421T053050Z
CREATED:20260421T053050Z
UID:69e70b8a5fc01
END:VEVENT
END:VCALENDAR