BEGIN:VCALENDAR
VERSION:2.0
PRODID:-//hacksw/handcal//NONSGML v1.0//EN
CALSCALE:GREGORIAN
BEGIN:VEVENT
LOCATION:
DESCRIPTION:
SUMMARY:Inauguration. L’archipel
URL;VALUE=URI:
DTSTART;TZID=EUROPE/ZURICH:20250517T110000
DTEND;TZID=EUROPE/ZURICH:20250517T180000
DTSTAMP:20260425T105608Z
CREATED:20260425T105608Z
UID:69ec9dc8c8729
END:VEVENT
END:VCALENDAR