BEGIN:VCALENDAR
VERSION:2.0
PRODID:-//hacksw/handcal//NONSGML v1.0//EN
CALSCALE:GREGORIAN
BEGIN:VEVENT
LOCATION:Route des Acacias 45\,  1227 Acacias
DESCRIPTION:Cycle de conférences « Anima »
SUMMARY:Conférence. Rina Rolli
URL;VALUE=URI:
DTSTART;TZID=EUROPE/ZURICH:20260319T183000
DTSTAMP:20260421T100502Z
CREATED:20260421T100502Z
UID:69e74bceb3d8a
END:VEVENT
END:VCALENDAR