BEGIN:VCALENDAR
VERSION:2.0
PRODID:-//hacksw/handcal//NONSGML v1.0//EN
CALSCALE:GREGORIAN
BEGIN:VEVENT
LOCATION:Chemin d'Entre-deux-villes 7\, 1807 Corseaux / Vevey
DESCRIPTION:Villas du Style International sur la riviera vaudoise
SUMMARY:Exposition. Habiter La Modernité
URL;VALUE=URI:https://www.facebook.com/events/423673574818641/
DTSTART;VALUE=DATE:20180906
DTEND;VALUE=DATE:20181129
DTSTAMP:20260425T211754Z
CREATED:20260425T211754Z
UID:69ed2f8213ac1
END:VEVENT
END:VCALENDAR