BEGIN:VCALENDAR
VERSION:2.0
PRODID:-//hacksw/handcal//NONSGML v1.0//EN
CALSCALE:GREGORIAN
BEGIN:VEVENT
LOCATION:Bâtiment SG
DESCRIPTION:
SUMMARY:Conférence. Yves Dreier et Eik Frenzel
URL;VALUE=URI:
DTSTART;TZID=EUROPE/ZURICH:20181015T180000
DTSTAMP:20260425T191055Z
CREATED:20260425T191055Z
UID:69ed11bf0ee50
END:VEVENT
END:VCALENDAR