BEGIN:VCALENDAR
VERSION:2.0
PRODID:-//hacksw/handcal//NONSGML v1.0//EN
CALSCALE:GREGORIAN
BEGIN:VEVENT
LOCATION:
DESCRIPTION:
SUMMARY:Séminaire en ligne. nouvelles proximités : proximités numériques\, Boris Beaude
URL;VALUE=URI:
DTSTART;TZID=EUROPE/ZURICH:20220225T120000
DTEND;TZID=EUROPE/ZURICH:20220225T140000
DTSTAMP:20260422T074914Z
CREATED:20260422T074914Z
UID:69e87d7a42916
END:VEVENT
END:VCALENDAR