BEGIN:VCALENDAR
VERSION:2.0
PRODID:-//hacksw/handcal//NONSGML v1.0//EN
CALSCALE:GREGORIAN
BEGIN:VEVENT
LOCATION:Auditoire Gremiaud\, Bd de Pérolles 80\, 1700 Fribourg
DESCRIPTION:
SUMMARY:Conférence. Transformation de l’ancien Manège de Genève.
URL;VALUE=URI:
DTSTART;TZID=EUROPE/ZURICH:20220117T173000
DTEND;TZID=EUROPE/ZURICH:20220117T190000
DTSTAMP:20260424T032756Z
CREATED:20260424T032756Z
UID:69eae33c87d65
END:VEVENT
END:VCALENDAR