BEGIN:VCALENDAR
VERSION:2.0
PRODID:-//hacksw/handcal//NONSGML v1.0//EN
CALSCALE:GREGORIAN
BEGIN:VEVENT
LOCATION:Genève
DESCRIPTION:
SUMMARY:Portes ouvertes. HEAD
URL;VALUE=URI:
DTSTART;TZID=EUROPE/ZURICH:20220122T100000
DTEND;TZID=EUROPE/ZURICH:20220122T180000
DTSTAMP:20260421T082811Z
CREATED:20260421T082811Z
UID:69e7351be11cd
END:VEVENT
END:VCALENDAR