BEGIN:VCALENDAR
VERSION:2.0
PRODID:-//hacksw/handcal//NONSGML v1.0//EN
CALSCALE:GREGORIAN
BEGIN:VEVENT
LOCATION:
DESCRIPTION:
SUMMARY:Remise du 50e prix Wakker
URL;VALUE=URI:
DTSTART;TZID=EUROPE/ZURICH:20220625T000000
DTSTAMP:20260422T234614Z
CREATED:20260422T234614Z
UID:69e95dc646161
END:VEVENT
END:VCALENDAR