BEGIN:VCALENDAR
VERSION:2.0
PRODID:-//hacksw/handcal//NONSGML v1.0//EN
CALSCALE:GREGORIAN
BEGIN:VEVENT
LOCATION:rue de saint-jean 32\, 1260 Nyon\, 
DESCRIPTION:
SUMMARY:Exposition. Prix FAS Master EPFL 2021
URL;VALUE=URI:
DTSTART;VALUE=DATE:20220207
DTEND;VALUE=DATE:20220225
DTSTAMP:20260423T210105Z
CREATED:20260423T210105Z
UID:69ea8891dcaa8
END:VEVENT
END:VCALENDAR