BEGIN:VCALENDAR
VERSION:2.0
PRODID:-//hacksw/handcal//NONSGML v1.0//EN
CALSCALE:GREGORIAN
BEGIN:VEVENT
LOCATION:Foyer SG
DESCRIPTION:
SUMMARY:Présentation de projets. MAS in Urban and Territorial Design
URL;VALUE=URI:
DTSTART;VALUE=DATE:20220126
DTEND;VALUE=DATE:20220128
DTSTAMP:20260424T093400Z
CREATED:20260424T093400Z
UID:69eb390816c92
END:VEVENT
END:VCALENDAR