BEGIN:VCALENDAR
VERSION:2.0
PRODID:-//hacksw/handcal//NONSGML v1.0//EN
CALSCALE:GREGORIAN
BEGIN:VEVENT
LOCATION:Rdv aux pieds des escaliers de la passerelle\, 
DESCRIPTION:
SUMMARY:Visite guidée. Ouest lausannois\, aujourd’hui et demain
URL;VALUE=URI:
DTSTART;TZID=EUROPE/ZURICH:20221126T103000
DTEND;TZID=EUROPE/ZURICH:20221126T123000
DTSTAMP:20260425T102323Z
CREATED:20260425T102323Z
UID:69ec961ba5365
END:VEVENT
END:VCALENDAR