BEGIN:VCALENDAR
VERSION:2.0
PRODID:-//hacksw/handcal//NONSGML v1.0//EN
CALSCALE:GREGORIAN
BEGIN:VEVENT
LOCATION:Espace 81\, Grand-Rue 81\, 1110 Morges
DESCRIPTION:GROUPE DE TRAVAIL CONSTRUCTION DURABLE - GTCD
SUMMARY:Exposition. Habiter demain
URL;VALUE=URI:
DTSTART;VALUE=DATE:20220302
DTEND;VALUE=DATE:20220312
DTSTAMP:20260425T111751Z
CREATED:20260425T111751Z
UID:69eca2df432cc
END:VEVENT
END:VCALENDAR