BEGIN:VCALENDAR
VERSION:2.0
PRODID:-//hacksw/handcal//NONSGML v1.0//EN
CALSCALE:GREGORIAN
BEGIN:VEVENT
LOCATION:Théâtre Benno Besson\, Rue du Casino 9\, Yverdon-les-Bains
DESCRIPTION:
SUMMARY:Conférence. Rénovation énergétique
URL;VALUE=URI:
DTSTART;TZID=EUROPE/ZURICH:20220601T183000
DTEND;TZID=EUROPE/ZURICH:20220601T203000
DTSTAMP:20260424T190854Z
CREATED:20260424T190854Z
UID:69ebbfc6ce5b8
END:VEVENT
END:VCALENDAR