BEGIN:VCALENDAR
VERSION:2.0
PRODID:-//hacksw/handcal//NONSGML v1.0//EN
CALSCALE:GREGORIAN
BEGIN:VEVENT
LOCATION:Route des Viviers 12A\, 2800 Delémont
DESCRIPTION:
SUMMARY:Visite matilda.  Ventilation naturelle\, poêle hydraulique\, et si nous favorisions une ingénierie appréhensible?
URL;VALUE=URI:
DTSTART;TZID=EUROPE/ZURICH:20220611T140000
DTSTAMP:20260425T104200Z
CREATED:20260425T104200Z
UID:69ec9a78b94ae
END:VEVENT
END:VCALENDAR