BEGIN:VCALENDAR
VERSION:2.0
PRODID:-//hacksw/handcal//NONSGML v1.0//EN
CALSCALE:GREGORIAN
BEGIN:VEVENT
LOCATION:Place Ada Lovelace
DESCRIPTION:
SUMMARY:Evènement. Cooking Assembly
URL;VALUE=URI:
DTSTART;TZID=EUROPE/ZURICH:20220525T170000
DTSTAMP:20260419T170053Z
CREATED:20260419T170053Z
UID:69e50a45a4b6b
END:VEVENT
END:VCALENDAR