BEGIN:VCALENDAR
VERSION:2.0
PRODID:-//hacksw/handcal//NONSGML v1.0//EN
CALSCALE:GREGORIAN
BEGIN:VEVENT
LOCATION:
DESCRIPTION:Nouvelles utopies écologiques pour reconnecter l’humanité au vivant
SUMMARY:Conférence. CYCLE URBAIN\, CYCLE DE VIE
URL;VALUE=URI:
DTSTART;TZID=EUROPE/ZURICH:20220517T173000
DTSTAMP:20260421T001233Z
CREATED:20260421T001233Z
UID:69e6c0f1b2b6b
END:VEVENT
END:VCALENDAR