BEGIN:VCALENDAR
VERSION:2.0
PRODID:-//hacksw/handcal//NONSGML v1.0//EN
CALSCALE:GREGORIAN
BEGIN:VEVENT
LOCATION:
DESCRIPTION:
SUMMARY:Cérémonie. Prix FVPC pour la culture du bâti
URL;VALUE=URI:
DTSTART;TZID=EUROPE/ZURICH:20221105T110000
DTSTAMP:20260425T003823Z
CREATED:20260425T003823Z
UID:69ec0cffa69f3
END:VEVENT
END:VCALENDAR