BEGIN:VCALENDAR
VERSION:2.0
PRODID:-//hacksw/handcal//NONSGML v1.0//EN
CALSCALE:GREGORIAN
BEGIN:VEVENT
LOCATION:
DESCRIPTION:
SUMMARY:Colloque. Habitat Research Center Day 2022
URL;VALUE=URI:
DTSTART;TZID=EUROPE/ZURICH:20220712T090000
DTEND;TZID=EUROPE/ZURICH:20220712T184500
DTSTAMP:20260421T093755Z
CREATED:20260421T093755Z
UID:69e7457386f0d
END:VEVENT
END:VCALENDAR