BEGIN:VCALENDAR
VERSION:2.0
PRODID:-//hacksw/handcal//NONSGML v1.0//EN
CALSCALE:GREGORIAN
BEGIN:VEVENT
LOCATION:Route des Acacias 45\, 1227 Acacias
DESCRIPTION:
SUMMARY:Quinzaine de l’urbanisme. Planète limite
URL;VALUE=URI:
DTSTART;VALUE=DATE:20220920
DTEND;VALUE=DATE:20221006
DTSTAMP:20260423T195751Z
CREATED:20260423T195751Z
UID:69ea79bf73a62
END:VEVENT
END:VCALENDAR