BEGIN:VCALENDAR
VERSION:2.0
PRODID:-//hacksw/handcal//NONSGML v1.0//EN
CALSCALE:GREGORIAN
BEGIN:VEVENT
LOCATION:Grande salle communale\, Pl. du Motty 4\, 1024 Ecublens
DESCRIPTION:
SUMMARY:Cérémonie. Distinction de l’Ouest 2022
URL;VALUE=URI:
DTSTART;TZID=EUROPE/ZURICH:20221126T000000
DTSTAMP:20260423T054819Z
CREATED:20260423T054819Z
UID:69e9b2a34b09b
END:VEVENT
END:VCALENDAR