BEGIN:VCALENDAR
VERSION:2.0
PRODID:-//hacksw/handcal//NONSGML v1.0//EN
CALSCALE:GREGORIAN
BEGIN:VEVENT
LOCATION:
DESCRIPTION:
SUMMARY:Conférence SUPERSTUDIO. Latent Futures – Matthieu Calame
URL;VALUE=URI:
DTSTART;TZID=EUROPE/ZURICH:20221129T180000
DTSTAMP:20260420T195835Z
CREATED:20260420T195835Z
UID:69e6856b2449a
END:VEVENT
END:VCALENDAR