BEGIN:VCALENDAR
VERSION:2.0
PRODID:-//hacksw/handcal//NONSGML v1.0//EN
CALSCALE:GREGORIAN
BEGIN:VEVENT
LOCATION:Avenue des Acacias 45\, 1227 Les Acacias
DESCRIPTION:
SUMMARY:Conférence. Pas de deux : Sophie Delay et Jacques Lucan
URL;VALUE=URI:
DTSTART;TZID=EUROPE/ZURICH:20221206T000000
DTSTAMP:20260422T230913Z
CREATED:20260422T230913Z
UID:69e955197699d
END:VEVENT
END:VCALENDAR