BEGIN:VCALENDAR
VERSION:2.0
PRODID:-//hacksw/handcal//NONSGML v1.0//EN
CALSCALE:GREGORIAN
BEGIN:VEVENT
LOCATION:L’îlot-S\, 7 esplanade Paul Grimault \, Annecy
DESCRIPTION:
SUMMARY:Conférence. Anthropocène et habitabilité : que peuvent l’art\, l’urbanisme et la culture ?
URL;VALUE=URI:
DTSTART;TZID=EUROPE/ZURICH:20221129T183000
DTSTAMP:20260421T230129Z
CREATED:20260421T230129Z
UID:69e801c9a436b
END:VEVENT
END:VCALENDAR