BEGIN:VCALENDAR
VERSION:2.0
PRODID:-//hacksw/handcal//NONSGML v1.0//EN
CALSCALE:GREGORIAN
BEGIN:VEVENT
LOCATION:Auberge du Motty
DESCRIPTION:
SUMMARY:Conférence. Bruno Marchand\, le paysage de la modernité
URL;VALUE=URI:
DTSTART;TZID=EUROPE/ZURICH:20221126T143000
DTSTAMP:20260423T072806Z
CREATED:20260423T072806Z
UID:69e9ca06a2bd9
END:VEVENT
END:VCALENDAR