BEGIN:VCALENDAR
VERSION:2.0
PRODID:-//hacksw/handcal//NONSGML v1.0//EN
CALSCALE:GREGORIAN
BEGIN:VEVENT
LOCATION:Auberge du Motty
DESCRIPTION:
SUMMARY:Table ronde. Culture du bâti : quel apport du Prix Wakker et des distinctions romandes?
URL;VALUE=URI:
DTSTART;TZID=EUROPE/ZURICH:20221126T160000
DTSTAMP:20260423T071335Z
CREATED:20260423T071335Z
UID:69e9c69fb87ee
END:VEVENT
END:VCALENDAR