BEGIN:VCALENDAR
VERSION:2.0
PRODID:-//hacksw/handcal//NONSGML v1.0//EN
CALSCALE:GREGORIAN
BEGIN:VEVENT
LOCATION:
DESCRIPTION:
SUMMARY:Ecrans Urbains 2023
URL;VALUE=URI:
DTSTART;VALUE=DATE:20230222
DTEND;VALUE=DATE:20230226
DTSTAMP:20260420T203043Z
CREATED:20260420T203043Z
UID:69e68cf378445
END:VEVENT
END:VCALENDAR