BEGIN:VCALENDAR
VERSION:2.0
PRODID:-//hacksw/handcal//NONSGML v1.0//EN
CALSCALE:GREGORIAN
BEGIN:VEVENT
LOCATION:Place Cosandey\, 1015 Lausanne
DESCRIPTION:
SUMMARY:Exposition. Lighten Up! On Biology and Time
URL;VALUE=URI:
DTSTART;VALUE=DATE:20230324
DTEND;VALUE=DATE:20230730
DTSTAMP:20260423T101650Z
CREATED:20260423T101650Z
UID:69e9f192668a4
END:VEVENT
END:VCALENDAR