BEGIN:VCALENDAR
VERSION:2.0
PRODID:-//hacksw/handcal//NONSGML v1.0//EN
CALSCALE:GREGORIAN
BEGIN:VEVENT
LOCATION:Bâtiment SG
DESCRIPTION:
SUMMARY:Discussion. Forme\, langage\, relation
URL;VALUE=URI:
DTSTART;TZID=EUROPE/ZURICH:20230417T183000
DTSTAMP:20260421T080221Z
CREATED:20260421T080221Z
UID:69e72f0d655d9
END:VEVENT
END:VCALENDAR