BEGIN:VCALENDAR
VERSION:2.0
PRODID:-//hacksw/handcal//NONSGML v1.0//EN
CALSCALE:GREGORIAN
BEGIN:VEVENT
LOCATION:Bâtiment SG
DESCRIPTION:
SUMMARY:Conférence 20x20x20. Mounir Ayoub\, Vanessa Lacaille + Shirana Shahbazi
URL;VALUE=URI:
DTSTART;TZID=EUROPE/ZURICH:20230313T121500
DTEND;TZID=EUROPE/ZURICH:20230313T131500
DTSTAMP:20260420T143756Z
CREATED:20260420T143756Z
UID:69e63a4440c51
END:VEVENT
END:VCALENDAR