BEGIN:VCALENDAR
VERSION:2.0
PRODID:-//hacksw/handcal//NONSGML v1.0//EN
CALSCALE:GREGORIAN
BEGIN:VEVENT
LOCATION:
DESCRIPTION:
SUMMARY:Marche exploratoire. Sur le campus de l’EPFL
URL;VALUE=URI:
DTSTART;TZID=EUROPE/ZURICH:20230321T000000
DTSTAMP:20260425T160631Z
CREATED:20260425T160631Z
UID:69ece687562ed
END:VEVENT
END:VCALENDAR