BEGIN:VCALENDAR
VERSION:2.0
PRODID:-//hacksw/handcal//NONSGML v1.0//EN
CALSCALE:GREGORIAN
BEGIN:VEVENT
LOCATION:
DESCRIPTION:
SUMMARY:En visite. Genève
URL;VALUE=URI:
DTSTART;TZID=EUROPE/ZURICH:20230617T093000
DTEND;TZID=EUROPE/ZURICH:20230617T121500
DTSTAMP:20260420T195913Z
CREATED:20260420T195913Z
UID:69e685910d1a3
END:VEVENT
END:VCALENDAR