BEGIN:VCALENDAR
VERSION:2.0
PRODID:-//hacksw/handcal//NONSGML v1.0//EN
CALSCALE:GREGORIAN
BEGIN:VEVENT
LOCATION:route des Acacias 45\, 1227 Les Acacias\, Genève
DESCRIPTION:
SUMMARY:Exposition. Architects at play
URL;VALUE=URI:
DTSTART;VALUE=DATE:20230428
DTEND;VALUE=DATE:20230611
DTSTAMP:20260424T201827Z
CREATED:20260424T201827Z
UID:69ebd0139d1c0
END:VEVENT
END:VCALENDAR