BEGIN:VCALENDAR
VERSION:2.0
PRODID:-//hacksw/handcal//NONSGML v1.0//EN
CALSCALE:GREGORIAN
BEGIN:VEVENT
LOCATION:Auditoire du MCBA
DESCRIPTION:
SUMMARY:Conférence Espaces communs. George Arbid\, architecture et modernité au Liban
URL;VALUE=URI:
DTSTART;TZID=EUROPE/ZURICH:20230607T183000
DTSTAMP:20260421T113930Z
CREATED:20260421T113930Z
UID:69e761f2b4720
END:VEVENT
END:VCALENDAR